BEGIN:VCALENDAR
VERSION:2.0
PRODID:-// - ECPv6.15.20//NONSGML v1.0//EN
CALSCALE:GREGORIAN
METHOD:PUBLISH
X-ORIGINAL-URL:https://remigiuskerksteenderen.nl
X-WR-CALDESC:Evenementen voor 
REFRESH-INTERVAL;VALUE=DURATION:PT1H
X-Robots-Tag:noindex
X-PUBLISHED-TTL:PT1H
BEGIN:VTIMEZONE
TZID:UTC
BEGIN:STANDARD
TZOFFSETFROM:+0000
TZOFFSETTO:+0000
TZNAME:UTC
DTSTART:20230101T000000
END:STANDARD
END:VTIMEZONE
BEGIN:VEVENT
DTSTART;TZID=UTC:20260329T193000
DTEND;TZID=UTC:20260329T210000
DTSTAMP:20260420T201644
CREATED:20260306T084809Z
LAST-MODIFIED:20260323T091327Z
UID:913-1774812600-1774818000@remigiuskerksteenderen.nl
SUMMARY:Steenderense Passion
DESCRIPTION:Voor de vijfde keer wordt de Steenderense Passion gehouden: het lijdensverhaal van Jezus vertelt en vertolkt met hedendaagse songs in het Nederlands en Engels door zangers en musici uit Steenderen en omgeving.\nAls je voorafgaand wil meelopen met de kruisdragers\, dan ben je om 19.15 uur welkom bij de R.K. Willibrorduskerk. Het kruis wordt vanaf daar in een stille tocht naar de Remigiuskerk gedragen. \nToegang is gratis.
URL:https://remigiuskerksteenderen.nl/agenda/steenderense-passion/
CATEGORIES:eendaags
ATTACH;FMTTYPE=image/png:https://remigiuskerksteenderen.nl/wp-content/uploads/2026/03/Scherm­afbeelding-2026-03-06-om-09.46.54.png
END:VEVENT
BEGIN:VEVENT
DTSTART;TZID=UTC:20251214T140000
DTEND;TZID=UTC:20251214T160000
DTSTAMP:20260420T201644
CREATED:20250717T122150Z
LAST-MODIFIED:20251030T114320Z
UID:825-1765720800-1765728000@remigiuskerksteenderen.nl
SUMMARY:Muzikale wandeling & wintermatinee
DESCRIPTION:Muziekvereniging Nieuw Leven uit Steenderen organiseert ook dit jaar weer een muzikale wandeling. De start is tussen 14.00 en 14.15 uur bij de Remigiuskerk. Langs de route\, die een lengte heeft van ongeveer 4 km\, wordt op verschillende plekken muziek ten gehore gebracht.\nAan het eind van de wandeling treden alle deelnemende musici gezamenlijk op in de Remigiuskerk. De Wintermatinee duurt tot ongeveer 16.00 uur. \nDe kosten voor wandeling + concert bedragen € 5\,- p.p. incl. een drankje.\nMeer informatie: nieuwleven-steenderen.nl
URL:https://remigiuskerksteenderen.nl/agenda/muzikale-wandeling-wintermatinee/
CATEGORIES:eendaags
ATTACH;FMTTYPE=image/jpeg:https://remigiuskerksteenderen.nl/wp-content/uploads/2025/06/Poster-Muzikale-Wandeling-2025.jpg
END:VEVENT
BEGIN:VEVENT
DTSTART;VALUE=DATE:20251213
DTEND;VALUE=DATE:20251214
DTSTAMP:20260420T201644
CREATED:20250903T135956Z
LAST-MODIFIED:20251124T150454Z
UID:856-1765584000-1765670399@remigiuskerksteenderen.nl
SUMMARY:Kerstmarkt
DESCRIPTION:Voor de tiende keer op rij: de kerstmarkt in de Remigiuskerk in Steenderen. Door de jaren heen is de kerstmarkt uitgegroeid tot een gezellige traditie\, waar je in een warme sfeer kunt genieten van kraampjes en alles wat wordt aangeboden\, zoals kerststukken. \nDe opbrengsten van de afgelopen tien jaar zijn besteed aan de interne verbouwing en verduurzaming van Het Anker. Dat is een karakteristieke dorpsboerderij\, die als ontmoetingscentrum niet meer weg te denken valt uit de dorpsgemeenschap. Naast kerkelijke activiteiten worden er muzieklessen en cursussen gegeven\, maken koren en verenigingen er gebruik van en vinden er lezingen\, vergaderingen en recepties plaats.
URL:https://remigiuskerksteenderen.nl/agenda/kerstmarkt-2/
CATEGORIES:eendaags
ATTACH;FMTTYPE=image/jpeg:https://remigiuskerksteenderen.nl/wp-content/uploads/2024/11/kerstmarkt.jpg
END:VEVENT
BEGIN:VEVENT
DTSTART;TZID=UTC:20251207T140000
DTEND;TZID=UTC:20251207T153000
DTSTAMP:20260420T201644
CREATED:20250903T135141Z
LAST-MODIFIED:20251008T135746Z
UID:853-1765116000-1765121400@remigiuskerksteenderen.nl
SUMMARY:Try-out oudejaarsconference Frans Miggelbrink
DESCRIPTION:De bekende Achterhoekse conferencier Frans Miggelbrink geeft in de Remigiuskerk in Steenderen wederom een try-out van zijn komende oudejaarsconference\, dit jaar met de titel ‘Raps op huus an’.\nWij als publiek kunnen dus “meebeslissen” in het wel of niet geslaagd zijn van bepaalde woordspelingen en grappen. Blijft het d’r in of wordt het geschrapt? ’t Zal allemaol wel good kommen. \nToegang € 15\,- per persoon. Wees op tijd met opgeven: vol = vol!\nOpgave per mail via info@remigiuskerksteenderen.nl Maximaal twee personen per mailadres.
URL:https://remigiuskerksteenderen.nl/agenda/try-out-oudejaarsconference-frans-miggelbrink/
CATEGORIES:eendaags
ATTACH;FMTTYPE=image/png:https://remigiuskerksteenderen.nl/wp-content/uploads/2025/09/Scherm­afbeelding-2025-09-03-om-15.47.56.png
END:VEVENT
BEGIN:VEVENT
DTSTART;TZID=UTC:20251115T110000
DTEND;TZID=UTC:20251115T163000
DTSTAMP:20260420T201644
CREATED:20250827T130757Z
LAST-MODIFIED:20250827T140524Z
UID:844-1763204400-1763224200@remigiuskerksteenderen.nl
SUMMARY:Dag van de Duurzaamheid  MOOI DOEN
DESCRIPTION:Kom kijken\, kopen\, proeven en meedoen op deze vrolijke dag in de Remigiuskerk in Steenderen. \nMet onder andere sinterklaascadeautjes\, workshops\, kleding\, meubels\, spelletjes\, besparingstips\, muziek\, hapjes en de lancering van Bronckhorst Energie. Het doel is mensen op een laagdrempelige manier kennis te laten nemen van duurzame alternatieven voor het dagelijkse leven. \nDe toegang is gratis. \nKlik voor meer informatie op deze link: De Groene Gans.
URL:https://remigiuskerksteenderen.nl/agenda/dag-van-de-duurzaamheid-mooi-doen/
CATEGORIES:eendaags
ATTACH;FMTTYPE=image/jpeg:https://remigiuskerksteenderen.nl/wp-content/uploads/2025/08/Mooi-Doen.jpg
END:VEVENT
BEGIN:VEVENT
DTSTART;TZID=UTC:20250906T100000
DTEND;TZID=UTC:20250907T170000
DTSTAMP:20260420T201644
CREATED:20250610T193509Z
LAST-MODIFIED:20250728T094347Z
UID:788-1757152800-1757264400@remigiuskerksteenderen.nl
SUMMARY:Expositie Pictura Gelria
DESCRIPTION:In de Remigiuskerk in Steenderen tonen actieve leden van de plein-air schildersgroep Pictura Gelria hun werk. De deelnemende kunstenaars zijn:\nJan Baggen\nTommy Bauling\nAnnemieke ten Brink\nElma van Ishoven\nBeb Kruese\nSibe-Jan Koster\nKasia Mazanek\nDineke Romeijn\nIngrid Terpstra\nRon Wanders \nDoor de grote groep deelnemers worden verschillende technieken gebruikt en is er zeer afwisselend werk te zien. Kijk voor meer informatie op: picturagelria.nl \nDe toegang is gratis.\nZaterdag vanaf 10.00 uur geopend\, zondag vanaf 12.00 uur.
URL:https://remigiuskerksteenderen.nl/agenda/expositie-pictura-gelria-2/
CATEGORIES:eendaags
ATTACH;FMTTYPE=image/jpeg:https://remigiuskerksteenderen.nl/wp-content/uploads/2025/06/Poster-Pictura-Gelria-2025-2-scaled.jpg
END:VEVENT
BEGIN:VEVENT
DTSTART;VALUE=DATE:20250809
DTEND;VALUE=DATE:20250811
DTSTAMP:20260420T201644
CREATED:20250507T130508Z
LAST-MODIFIED:20250717T121126Z
UID:766-1754697600-1754870399@remigiuskerksteenderen.nl
SUMMARY:Brommers kieken in de Karke
DESCRIPTION:Jaarlijks evenement in de Remigiuskerk in Steenderen met in de bromfietswereld landelijke bekendheid\, specifiek gericht op de liefhebbers van klassieke bromfietsen. En dat zijn er nogal wat. Van heinde en verre komen ze naar Steenderen om elkaar te ontmoeten en te spreken over hun hobby: het opknappen en berijden van een bromfiets. Vaak eentje die ze in hun jeugd ook hadden of hadden willen hebben. \nDit jaar is het thema ‘Specials’; de tentoonstelling bestaat uit aangepaste en eigenbouw-exemplaren. De subtitel is dan ook Een ode aan de mannen in schuurtjes. Uitvinders zijn het! Kom dus kijken. \nOpeningstijden: zaterdag 10.00 – 17.00 uur en zondag 12.00 – 17.00 uur\nToegang: € 5\,-
URL:https://remigiuskerksteenderen.nl/agenda/brommers-kieken-in-de-karke-2/
CATEGORIES:eendaags
ATTACH;FMTTYPE=image/jpeg:https://remigiuskerksteenderen.nl/wp-content/uploads/2025/05/affiche-a3-2025c-vierkant.jpg
END:VEVENT
BEGIN:VEVENT
DTSTART;TZID=UTC:20250614T100000
DTEND;TZID=UTC:20250614T170000
DTSTAMP:20260420T201644
CREATED:20250516T110955Z
LAST-MODIFIED:20250612T191756Z
UID:775-1749895200-1749920400@remigiuskerksteenderen.nl
SUMMARY:Brocantemarkt
DESCRIPTION:Bij de Remigiuskerk in Steenderen wordt tijdens de Achterhoekse Torentocht een brocantemarkt gehouden op het grasveld rondom de kerk. Naast brocante worden andere spullen als kleding\, plantjes en kringloopartikelen verkocht. \n 
URL:https://remigiuskerksteenderen.nl/agenda/brocantemarkt/
CATEGORIES:eendaags
ATTACH;FMTTYPE=image/jpeg:https://remigiuskerksteenderen.nl/wp-content/uploads/2025/05/Brocantemarkt-poster-vierkant-2.jpg
END:VEVENT
BEGIN:VEVENT
DTSTART;TZID=UTC:20250529T100000
DTEND;TZID=UTC:20250601T170000
DTSTAMP:20260420T201644
CREATED:20241125T105358Z
LAST-MODIFIED:20250331T120411Z
UID:702-1748512800-1748797200@remigiuskerksteenderen.nl
SUMMARY:Kunst in de Kerk
DESCRIPTION:De jaarlijkse\, vierdaagse expositie van de Remigiuskerk in Steenderen. \nDit jaar laten veertien kunstenaars hun werk zien. Er is een verscheidenheid aan kunst te bewonderen; van schilderijen\, keramiek en houtsnijwerk tot zilveren sieraden en breikunst. In de kerk zijn zitjes waar je een kopje koffie of thee kunt drinken. \nOp Hemelvaartsdag is een fietstocht georganiseerd Fiets de Boer op\, die ook de Remigiuskerk aandoet.\nLet op: zondag 1 juni is de kerk geopend vanaf 11.30 uur. \nVrij entree.
URL:https://remigiuskerksteenderen.nl/agenda/kunst-kijken-in-de-kerk/
CATEGORIES:eendaags
ATTACH;FMTTYPE=image/jpeg:https://remigiuskerksteenderen.nl/wp-content/uploads/2024/11/KUNST-IN-DE-KERK-flyer-2025-vierkant.jpg
END:VEVENT
BEGIN:VEVENT
DTSTART;TZID=UTC:20250501T200000
DTEND;TZID=UTC:20250501T213000
DTSTAMP:20260420T201644
CREATED:20250331T121200Z
LAST-MODIFIED:20250331T122147Z
UID:757-1746129600-1746135000@remigiuskerksteenderen.nl
SUMMARY:Lezing Karl Lusink 'Steenderen en de oorlog 40-45'
DESCRIPTION:Karl Lusink geeft een lezing in de Remigiuskerk in Steenderen met als titel: 13 Oorlogsgraven en de bevrijding\, Steenderen en de oorlog 1940-1945. Lusink is in de regio en ver daarbuiten bekend om zijn grote kennis over de luchtgevechten boven de Achterhoek\, de Liemers en de Veluwezoom tijdens de Tweede Wereldoorlog. Hij is een bevlogen en kundig onderzoeker. \nVoor de pauze worden drie vliegtuigcrashes in de regio belicht\, na de pauze ligt de focus op de bevrijding van Steenderen en op de identificatie van John Gordon Kavanagh. Deze soldaat verloor zijn leven in de Luur bij Steenderen. Mede dankzij het onderzoek van Lusink kreeg deze gesneuvelde soldaat weer een naam. Het belooft een heel boeiende en unieke avond te worden. \nToegang € 5\,- incl. een kopje koffie of thee. Iedereen is van harte welkom! \n 
URL:https://remigiuskerksteenderen.nl/agenda/lezing-karl-lusink-steenderen-en-de-oorlog-40-45/
CATEGORIES:eendaags
ATTACH;FMTTYPE=image/jpeg:https://remigiuskerksteenderen.nl/wp-content/uploads/2025/03/Lezing-Karl-Lusink-2025-vierkant.jpg
END:VEVENT
BEGIN:VEVENT
DTSTART;TZID=UTC:20241215T130000
DTEND;TZID=UTC:20241215T153000
DTSTAMP:20260420T201644
CREATED:20241204T165940Z
LAST-MODIFIED:20241204T165949Z
UID:718-1734267600-1734276600@remigiuskerksteenderen.nl
SUMMARY:Muzikale winterwandeling
DESCRIPTION:Een wandeling van ongeveer 5 kilometer vanaf de Remigiuskerk in Steenderen met onderweg kleine\, muzikale intermezzo’s. Na afloop is er koffie\, thee\, glühwein\, chocolademelk en iets lekkers in de Remigius. \nDe winterwandeling wordt afgesloten met een concert van ongeveer een uur door muziekvereniging Nieuw Leven\, in samenwerking met koor Steenrewalt\, Vocalgroup Full House en solisten Freek Beeftink & Marieke Visser. \nKosten: €5\,– per persoon\, tot 12 jaar gratis. Meer informatie: nieuwleven-steenderen.nl.
URL:https://remigiuskerksteenderen.nl/agenda/muzikale-winterwandeling/
CATEGORIES:eendaags
ATTACH;FMTTYPE=image/jpeg:https://remigiuskerksteenderen.nl/wp-content/uploads/2024/12/winterwandeling-site.jpg
END:VEVENT
BEGIN:VEVENT
DTSTART;TZID=UTC:20241214T110000
DTEND;TZID=UTC:20241214T160000
DTSTAMP:20260420T201644
CREATED:20241129T115606Z
LAST-MODIFIED:20241129T115606Z
UID:707-1734174000-1734192000@remigiuskerksteenderen.nl
SUMMARY:Kerstmarkt Steenderen
DESCRIPTION:Op zaterdag 14 december gaan de kerkdeuren van de Remigiuskerk weer open voor de gezelligste kerstmarkt van de regio.\nVerschillende standhouders bieden allerlei sfeervolle kerstartikelen aan\, waaronder brocante. Er is een grabbelton voor de kinderen. Probeer het gewicht raden van een kerstbrood en de prijs van een boodschappenpakket.\nIn de kerk is er allerlei lekkers te koop\, zoals warme chocolademelk\, versgebakken wafels\, nieuwjaarsrolletjes\, oliebollen en erwtensoep. Er zijn gezellige zitjes waar je kunt bijpraten met vrienden en bekenden. Midwinterhoornblazers zorgen voor een warm welkom. Derk Jan Terpstra speelt improvisaties op de vleugel\, de cantorij verzorgt een optreden en muziekvereniging Nieuw Leven speelt vrolijke kerstmuziek.
URL:https://remigiuskerksteenderen.nl/agenda/kerstmarkt-steenderen/
CATEGORIES:eendaags
ATTACH;FMTTYPE=image/jpeg:https://remigiuskerksteenderen.nl/wp-content/uploads/2024/11/kerstmarkt.jpg
END:VEVENT
END:VCALENDAR